BEGIN:VCALENDAR
VERSION:2.0
PRODID:-//Implant Seminars - ECPv6.15.13.1//NONSGML v1.0//EN
CALSCALE:GREGORIAN
METHOD:PUBLISH
X-WR-CALNAME:Implant Seminars
X-ORIGINAL-URL:https://www.implantseminars.com
X-WR-CALDESC:Events for Implant Seminars
REFRESH-INTERVAL;VALUE=DURATION:PT1H
X-Robots-Tag:noindex
X-PUBLISHED-TTL:PT1H
BEGIN:VTIMEZONE
TZID:America/New_York
BEGIN:DAYLIGHT
TZOFFSETFROM:-0500
TZOFFSETTO:-0400
TZNAME:EDT
DTSTART:20250309T070000
END:DAYLIGHT
BEGIN:STANDARD
TZOFFSETFROM:-0400
TZOFFSETTO:-0500
TZNAME:EST
DTSTART:20251102T060000
END:STANDARD
BEGIN:DAYLIGHT
TZOFFSETFROM:-0500
TZOFFSETTO:-0400
TZNAME:EDT
DTSTART:20260308T070000
END:DAYLIGHT
BEGIN:STANDARD
TZOFFSETFROM:-0400
TZOFFSETTO:-0500
TZNAME:EST
DTSTART:20261101T060000
END:STANDARD
BEGIN:DAYLIGHT
TZOFFSETFROM:-0500
TZOFFSETTO:-0400
TZNAME:EDT
DTSTART:20270314T070000
END:DAYLIGHT
BEGIN:STANDARD
TZOFFSETFROM:-0400
TZOFFSETTO:-0500
TZNAME:EST
DTSTART:20271107T060000
END:STANDARD
END:VTIMEZONE
BEGIN:VEVENT
DTSTART;TZID=America/New_York:20260423T083000
DTEND;TZID=America/New_York:20260424T170000
DTSTAMP:20260423T114801
CREATED:20251118T201434Z
LAST-MODIFIED:20251121T165003Z
UID:1507-1776933000-1777050000@www.implantseminars.com
SUMMARY:(VIRTUAL) Dental Implant Continuum Spring - In-Person Session 3 -  Miami
DESCRIPTION:IN- PERSON SESSION \nDAY 1\nMorning\nSoft Tissue Management for Implants and Natural Teeth\, Stage 2 Surgery Techniques\, Suturing Techniques \nAfternoon:\nAutologous Blood Concentrates (PRP\, PRF\, CGF… etc) Biology\, Research\, Phlebotomy\, and Clinical Applications \nDAY 2\nMorning:\nPig Jaw Workshop with each participant performing these procedures on Fresh Frozen Pig Mandibles \nAfternoon:\nHands on Demonstration & Practice Drawing Blood and Obtaining PRP (Platelet Rich Plasma)\nInvite Staff to register and participate to: \n\nApply a tourniquet\nLearn how to use Veinlight\nPractice phlebotomy on mannequin\nPractice phlebotomy on patients\nPractice using the centrifuge\nLearn about PRP in Facial Rejuvenation
URL:https://www.implantseminars.com/course/virtual-dental-implant-continuum-spring-in-person-session-3-miami/
LOCATION:Implant Seminars\, 1830 NE 153rd Street\, North Miami Beach\, FL\, 33162\, United States
CATEGORIES:Dental Implant Continuum Spring - VIRTUAL
ORGANIZER;CN="Implant Seminars":MAILTO:arun.implantseminars@gmail.com
END:VEVENT
END:VCALENDAR