BEGIN:VCALENDAR
VERSION:2.0
PRODID:-//Implant Seminars - ECPv6.15.13.1//NONSGML v1.0//EN
CALSCALE:GREGORIAN
METHOD:PUBLISH
X-WR-CALNAME:Implant Seminars
X-ORIGINAL-URL:https://www.implantseminars.com
X-WR-CALDESC:Events for Implant Seminars
REFRESH-INTERVAL;VALUE=DURATION:PT1H
X-Robots-Tag:noindex
X-PUBLISHED-TTL:PT1H
BEGIN:VTIMEZONE
TZID:America/New_York
BEGIN:DAYLIGHT
TZOFFSETFROM:-0500
TZOFFSETTO:-0400
TZNAME:EDT
DTSTART:20250309T070000
END:DAYLIGHT
BEGIN:STANDARD
TZOFFSETFROM:-0400
TZOFFSETTO:-0500
TZNAME:EST
DTSTART:20251102T060000
END:STANDARD
BEGIN:DAYLIGHT
TZOFFSETFROM:-0500
TZOFFSETTO:-0400
TZNAME:EDT
DTSTART:20260308T070000
END:DAYLIGHT
BEGIN:STANDARD
TZOFFSETFROM:-0400
TZOFFSETTO:-0500
TZNAME:EST
DTSTART:20261101T060000
END:STANDARD
BEGIN:DAYLIGHT
TZOFFSETFROM:-0500
TZOFFSETTO:-0400
TZNAME:EDT
DTSTART:20270314T070000
END:DAYLIGHT
BEGIN:STANDARD
TZOFFSETFROM:-0400
TZOFFSETTO:-0500
TZNAME:EST
DTSTART:20271107T060000
END:STANDARD
END:VTIMEZONE
BEGIN:VEVENT
DTSTART;TZID=America/New_York:20260117T083000
DTEND;TZID=America/New_York:20260118T170000
DTSTAMP:20260423T154112
CREATED:20251118T155637Z
LAST-MODIFIED:20251118T201923Z
UID:1469-1768638600-1768755600@www.implantseminars.com
SUMMARY:Dental Implant Continuum Spring - Session 1
DESCRIPTION:Day 1 \n\nHistorical Development of and Current Scientific Basis of Dental Implants and Osseointegration\nPatient Evaluation for Dental Implant\nStep by Step Treatment Planning patients for Dental Implants\n\nDAY 2 – Workshop \n\nReview of Graft Materials and When to Use What and Why\nStep by Step Socket Preservation Techniques Workshop\nSocket Grafting model workshop / Extraction Model workshop to practice using peritomes and luxator.
URL:https://www.implantseminars.com/course/dental-implant-continuum/
LOCATION:Implant Seminars\, 1830 NE 153rd Street\, North Miami Beach\, FL\, 33162\, United States
CATEGORIES:Dental Implant Continuum – Spring 2026
ORGANIZER;CN="Implant Seminars":MAILTO:arun.implantseminars@gmail.com
END:VEVENT
BEGIN:VEVENT
DTSTART;TZID=America/New_York:20260122T080000
DTEND;TZID=America/New_York:20260124T170000
DTSTAMP:20260423T154112
CREATED:20251121T144019Z
LAST-MODIFIED:20251121T161216Z
UID:1542-1769068800-1769274000@www.implantseminars.com
SUMMARY:Live Patient - Dental Implant or Sinus Lift
DESCRIPTION:This 3-day live-patient surgical program gives dentists the opportunity to perform real dental implant or sinus lift procedures under direct faculty supervision. Participants gain practical\, hands-on experience in treatment planning\, implant placement\, sinus augmentation techniques\, suturing\, and postoperative management—building the surgical skill and confidence needed for successful implant dentistry in their practice.
URL:https://www.implantseminars.com/course/live-patient-dental-implant-or-sinus-lift/
CATEGORIES:Live Patient
END:VEVENT
BEGIN:VEVENT
DTSTART;TZID=America/New_York:20260124T080000
DTEND;TZID=America/New_York:20260125T170000
DTSTAMP:20260423T154112
CREATED:20251121T170503Z
LAST-MODIFIED:20251121T170503Z
UID:1549-1769241600-1769360400@www.implantseminars.com
SUMMARY:FAIR 2-Day Mastery Course
DESCRIPTION:This intense two-day hands-on program gives dentists a deep dive into the full-arch “All-on-X” workflow\, from patient selection and treatment planning through implant surgery and restorative conversion. With live surgery videos\, hands-on model work\, clinical protocols\, and an optional Day 3 cadaver workshop\, attendees leave with practical systems ready to implement. (16–24 CE hrs)
URL:https://www.implantseminars.com/course/fair-2-day-mastery-course/
LOCATION:Implant Seminars\, 1830 NE 153rd Street\, North Miami Beach\, FL\, 33162\, United States
CATEGORIES:Full Arch Implant Rehabilitation
END:VEVENT
END:VCALENDAR